BEGIN:VCALENDAR
METHOD:PUBLISH
VERSION:2.0
CALSCALE:GREGORIAN
PRODID:-//NONSGML WPForms//NONSGML Sugar Calendar Feeds v3.10.0//EN
X-WR-CALNAME:Fellowship-Meal
X-WR-CALDESC:Chulafinnee Baptist Church
X-WR-TIMEZONE:UTC
BEGIN:VTIMEZONE
TZID:UTC
BEGIN:STANDARD
TZOFFSETFROM:+0000
TZOFFSETTO:+0000
DTSTART:20251008T054500
TZNAME:UTC
END:STANDARD
END:VTIMEZONE
BEGIN:VTIMEZONE
TZID:UTC
BEGIN:STANDARD
TZOFFSETFROM:+0000
TZOFFSETTO:+0000
DTSTART:20251008T054500
TZNAME:UTC
END:STANDARD
END:VTIMEZONE
BEGIN:VEVENT
SUMMARY:Fellowship Meal
DESCRIPTION:
URL;VALUE=URI:https://chulafinneebaptist.org/sc_recurring_event/fellowsh
 ip-meal-6/
UID:urn:uuid:0f7e4ea4-e765-4897-9c6c-f11f745c88bf
STATUS:CONFIRMED
ORGANIZER:
DTSTAMP:20260423T101935Z
DTSTART;TZID=UTC:20260408T174500
DTEND;TZID=UTC:20260408T183000
RRULE:FREQ=WEEKLY;INTERVAL=1;UNTIL=20260527T235959Z
END:VEVENT
END:VCALENDAR