BEGIN:VCALENDAR
METHOD:PUBLISH
VERSION:2.0
CALSCALE:GREGORIAN
PRODID:-//NONSGML WPForms//NONSGML Sugar Calendar Feeds v3.10.0//EN
X-WR-CALNAME:Choir-Practice
X-WR-CALDESC:Chulafinnee Baptist Church
X-WR-TIMEZONE:UTC
BEGIN:VTIMEZONE
TZID:UTC
BEGIN:STANDARD
TZOFFSETFROM:+0000
TZOFFSETTO:+0000
DTSTART:20250917T070000
TZNAME:UTC
END:STANDARD
END:VTIMEZONE
BEGIN:VTIMEZONE
TZID:UTC
BEGIN:STANDARD
TZOFFSETFROM:+0000
TZOFFSETTO:+0000
DTSTART:20250917T070000
TZNAME:UTC
END:STANDARD
END:VTIMEZONE
BEGIN:VEVENT
SUMMARY:Choir Practice
DESCRIPTION:
URL;VALUE=URI:https://chulafinneebaptist.org/sc_recurring_event/choir-pr
 actice-2/
UID:urn:uuid:32ea8668-938f-44d9-8d3b-d4fe7f6cddd5
STATUS:CONFIRMED
ORGANIZER:
DTSTAMP:20260423T101028Z
DTSTART;TZID=UTC:20260318T190000
DTEND;TZID=UTC:20260318T200000
RRULE:FREQ=WEEKLY;INTERVAL=1
END:VEVENT
END:VCALENDAR